BEGIN:VCALENDAR
VERSION:2.0
X-WR-CALNAME:www.indybay.org
PRODID:-//indybay/ical// v1.0//EN
BEGIN:VEVENT
UID:Indybay-99643
SEQUENCE:99643
CREATED:20060505T020200Z
DESCRIPTION:AMERICAN DICTATORS   Presented by Gypsy   This film by Alex Jones documents 
 the staged election of 2004 and the degeneration of America’s political 
 process. Alex Jones rips away layer after layer of the false left-right 
 paradigm and finally reveals the 2004 election for what it is -- 
 stage-managed theater that would make Shakespeare proud. This film 
 chronicles how Bush and Kerry are closely related on both sides of their 
 families. Bush the Skull and Kerry the Bone have both sworn an oath to a 
 secret society, Skull and Bones, with deep connections to organized crime, 
 intelligence agencies, and the occult. The “Order of Death” of Skull 
 and Bones draws its members from the highest levels of every sector of the 
 U.S. economy -- from banking to government. While Bush and Kerry spout 
 different rhetoric, their actions are almost identical. Alex Jones takes 
 you to the front lines of the fight against the expanding police state: the 
 new Super-Patriot Act and National ID Card as well as some of the newest 
 and most shocking revelations surrounding the September 11th cover-up. This 
 film is a must-see for anyone who wants to know the truth concerning how 
 the global elite has hijacked both parties and is giving the American 
 people a false choice. By exposing this rigged game where the global mob 
 owns all the horses, this film unlocks minds so that freedom-loving people 
 can decipher the mainstream media propaganda for what it is: a military 
 operation conducted by the military-industrial complex. 
 http://www.infowars.com/dictators.htm   Before and after the film, 
 everyone’s invited to indulge in our Humanist Coffee House   $5 donation 
 accepted\n https://www.indybay.org/newsitems/2006/05/04/99643.php
SUMMARY:American Dictators
LOCATION:Humanist Hall   390 27th Street   midtown Oakland   between Telegraph and 
 Broadway, below Pill Hill   http://www.HumanistHall.net 
URL:https://www.indybay.org/newsitems/2006/05/04/99643.php
DTSTART:20060601T023000Z
DTEND:20060601T043000Z
END:VEVENT
END:VCALENDAR
