BEGIN:VCALENDAR
VERSION:2.0
X-WR-CALNAME:www.indybay.org
PRODID:-//indybay/ical// v1.0//EN
BEGIN:VEVENT
UID:Indybay-99273
SEQUENCE:99273
CREATED:20060504T023400Z
DESCRIPTION:# 5/4: Matt Gonzalez Fundraiser for Aimee Allison Oakland City Council 
 Cand. (SOMA / south beach)   Thursday, May 4, 2006 Meet Aimee Allison 6-8 
 PM Gonzalez & Leigh   Join Matt Gonzalez, Whitney Leigh, Rita Hao, Nima 
 Nami, Enrique Pearce & Bryan Vereschagin (Gonzalez & Leigh LLP) at a 
 fundraiser for Aimee Allison, Green Party candidate for Oakland City 
 Council at the office from 6:00 p.m. until 8:00 p.m.   Gonzalez & Leigh's 
 new office is located at Two Shaw Alley, 3rd Floor, San Francisco, CA 
 94105. It is between 1st and 2nd Streets off Mission. (415) 512-2000   We 
 hope you can make it. You can find information about Aimee on her website:  
  http://www.aimeealllison.org or call (510) 277-0182   
 http://www.craigslist.org/eve/156232277.html   \n 
 https://www.indybay.org/newsitems/2006/05/03/99273.php
SUMMARY:Aimee Allison Green for Oakland City Council w Matt Gonzalez
LOCATION:Gonzalez & Leigh  2 Shaw Alley  between 1st and 2nd off Mission
URL:https://www.indybay.org/newsitems/2006/05/03/99273.php
DTSTART:20060505T010000Z
DTEND:20060505T030000Z
END:VEVENT
END:VCALENDAR
