BEGIN:VCALENDAR
VERSION:2.0
X-WR-CALNAME:www.indybay.org
PRODID:-//indybay/ical// v1.0//EN
BEGIN:VEVENT
UID:Indybay-98283
SEQUENCE:98283
CREATED:20060429T024000Z
DESCRIPTION:We will be gathering in Roseland for a permitted march through downtown 
 Santa Rosa in celebration of the strength of the immigrant communities.  
 March will end at Juliard Park for a rally/picnic including a potluck, 
 music, information booths, speeches and games.  The event should last until 
 4pm.  Bring extra food to share.  Buy Nothing, Sell Nothing (especially 
 your labor).\n https://www.indybay.org/newsitems/2006/04/28/98283.php
SUMMARY:May Day Santa Rosa
LOCATION:Starts at 665 Sebastopol Road, Santa Rosa.  Ends at Juliard Park on Santa 
 Rosa Ave, across from Luther Burbank Gardens
URL:https://www.indybay.org/newsitems/2006/04/28/98283.php
DTSTART:20060501T170000Z
DTEND:20060501T230000Z
END:VEVENT
END:VCALENDAR
