BEGIN:VCALENDAR
VERSION:2.0
X-WR-CALNAME:www.indybay.org
PRODID:-//indybay/ical// v1.0//EN
BEGIN:VEVENT
UID:Indybay-98233
SEQUENCE:98233
CREATED:20060428T200700Z
DESCRIPTION:  It’s time for greedy developers, loitering real estate speculators, 
 delusional Jesus-addicts, creepy “neighborhood” property owners’ 
 associations and corrupt city officials to stop vandalizing Polk Street 
 with their sanitized “vision for the future”! Do you feel depressed and 
 overwhelmed as you watch Polk Street become another artifact of San 
 Francisco history? Is there anything that can be done? We don’t know, but 
 come to a brainstorming meeting with other people outraged by this 
 gentrification madness.  Free food, conversation and culture     Brought to 
 you by…  GAY SHAME: A Virus in the System  For more information on the 
 Polk see  http://www.gayshamesf.org  Free event, All are welcome.\n 
 https://www.indybay.org/newsitems/2006/04/28/98233.php
SUMMARY:DOES SAN FRANCISCO NEED ANOTHER PLAYGROUND FOR THE WEALTHY?
LOCATION:509 Cultural Center  509 Ellis @ Leavenworth
URL:https://www.indybay.org/newsitems/2006/04/28/98233.php
DTSTART:20060504T013000Z
DTEND:20060504T023000Z
END:VEVENT
END:VCALENDAR
