BEGIN:VCALENDAR
VERSION:2.0
X-WR-CALNAME:www.indybay.org
PRODID:-//indybay/ical// v1.0//EN
BEGIN:VEVENT
UID:Indybay-98113
SEQUENCE:98113
CREATED:20060428T014300Z
DESCRIPTION:Free Skool Santa Cruz presents:  Surveillance Camera Walking Tour           
                                                                 Clocktower 
 downtown  with Winston Smith  A Sunday stroll around the downtown grid 
 identifying contemporary methods of surveillance.  We will derivé, or 
 drift, through the evermore controlled terrain of public space with the 
 intention of understanding camera placements and capabilities, as well as 
 the behaviors conditioned by the idiom 'you are being watched.'  Sun Apr 
 30, Sun May 7  1pm\n https://www.indybay.org/newsitems/2006/04/27/98113.php
SUMMARY:Surveillance Camera Walking Tour
LOCATION:Downtown Clocktower
URL:https://www.indybay.org/newsitems/2006/04/27/98113.php
DTSTART:20060430T200000Z
DTEND:20060430T220000Z
END:VEVENT
END:VCALENDAR
