BEGIN:VCALENDAR
VERSION:2.0
X-WR-CALNAME:www.indybay.org
PRODID:-//indybay/ical// v1.0//EN
BEGIN:VEVENT
UID:Indybay-98103
SEQUENCE:98103
CREATED:20060427T223300Z
DESCRIPTION:Radical artistic director and political activist, Krissy Keefer, Green 
 Party candidate for the 8th Congressional District, dances into action with 
 singer/songwriter Holly Near and others.  Suggested donation: $10.  No one 
 turned away for lack of funds.\n 
 https://www.indybay.org/newsitems/2006/04/27/98103.php
SUMMARY:Krissy Keefer for Congress!!!
LOCATION:La Boheme Cafe, 3318 24th Street, near Mission
URL:https://www.indybay.org/newsitems/2006/04/27/98103.php
DTSTART:20060516T020000Z
DTEND:20060516T040000Z
END:VEVENT
END:VCALENDAR
