BEGIN:VCALENDAR
VERSION:2.0
X-WR-CALNAME:www.indybay.org
PRODID:-//indybay/ical// v1.0//EN
BEGIN:VEVENT
UID:Indybay-97013
SEQUENCE:97013
CREATED:20060424T235000Z
DESCRIPTION:Tues. April 25, 7pm  Weekly ANSWER Activist Meeting  Join us for analysis 
 and discussion of the heightened US aggression against Iran and other 
 recent political events. Hear a report on national and international 
 actions planned for May 1. Volunteers are needed - find out how you can 
 help at San Francisco May 1 actions. Help with sign making and other prep 
 work after the meeting. Call 415-821-6545 for more info.    \n 
 https://www.indybay.org/newsitems/2006/04/24/97013.php
SUMMARY:ANSWER Meeting: US Aggression on Iran/May 1 Immigrant Rights Actions
LOCATION:2489 Mission St. Room 30 (at 21st St.)  near 24th St. BART, #14, #49 MUNI
URL:https://www.indybay.org/newsitems/2006/04/24/97013.php
DTSTART:20060426T020000Z
DTEND:20060426T040000Z
END:VEVENT
END:VCALENDAR
