BEGIN:VCALENDAR
VERSION:2.0
X-WR-CALNAME:www.indybay.org
PRODID:-//indybay/ical// v1.0//EN
BEGIN:VEVENT
UID:Indybay-96593
SEQUENCE:96593
CREATED:20060423T152900Z
DESCRIPTION:  37th ANNIVERSARY   Sunday April 23rd   all day   A User-Developed 
 Celebration! A Do-It-Yourself Party and Re-Dedication of the People's Park! 
 Enjoy the Spirit and Nature and the Harmony of Humanity!   come and see 
 what grows!\n https://www.indybay.org/newsitems/2006/04/23/96593.php
SUMMARY:People's Park Anniversary 11 am
LOCATION:Peoples Park is located in the City of Berkeley, a few blocks South of the 
 University of California campus. The Park is bounded on the East by 
 Bowditch St., on the South by Dwight Way, on the North by Haste St. and on 
 the West, it's a short half block from Telegraph Avenue.
URL:https://www.indybay.org/newsitems/2006/04/23/96593.php
DTSTART:20060423T180000Z
DTEND:20060424T000000Z
END:VEVENT
END:VCALENDAR
