BEGIN:VCALENDAR
VERSION:2.0
X-WR-CALNAME:www.indybay.org
PRODID:-//indybay/ical// v1.0//EN
BEGIN:VEVENT
UID:Indybay-96183
SEQUENCE:96183
CREATED:20060420T222800Z
DESCRIPTION:Friday, April 28  Prof. Steven Best: Animal Rights and the Left  Rm. 303, 
 Bldg. 200 (Lane HistoryCorner), 12pm-1:15pm  Learn why those who care about 
 progressive politics should also care about  animal rights, and vice versa. 
 Dr. Best will examine the liberatory  potential of a total critique of 
 exploitation.  \n https://www.indybay.org/newsitems/2006/04/20/96183.php
SUMMARY:Prof. Steven Best: Animal Rights and the Left
LOCATION:Stanford University, Rm. 303, Bldg. 200 (Lane History Corner)  Searchable 
 Stanford Map:   http://campus-map.stanford.edu/   
URL:https://www.indybay.org/newsitems/2006/04/20/96183.php
DTSTART:20060428T190000Z
DTEND:20060428T210000Z
END:VEVENT
END:VCALENDAR
