BEGIN:VCALENDAR
VERSION:2.0
X-WR-CALNAME:www.indybay.org
PRODID:-//indybay/ical// v1.0//EN
BEGIN:VEVENT
UID:Indybay-94573
SEQUENCE:94573
CREATED:20060411T211400Z
DESCRIPTION:2 very special films. A sneak preview of "The Temple Builder" about 
 renowned artist and temple builder, David Best, the most celebrated artist 
 to emerge from Burning Man. The Temple Builder  chronicles Best's famed 
 temples from the very first to the Temple of Stars that spanned 1/3 of a 
 mile and stood 110 feet high. David Best will be present along with Burning 
 Man founder Larry Harvey,  The other movie is "Beyond Black Rock," the 
 inside story of Burning Man, a movie that contains amazing imagery and 
 interesting interviews.  Beyond Black Rock @ 7pm and "The Temple Builder" @ 
 9:30.  To benefit the Black Rock Arts Foundation and the Santa Cruz Film 
 Festival.  Tickets online at www.victoriatheatre.org\n 
 https://www.indybay.org/newsitems/2006/04/11/94573.php
SUMMARY:Burning Man Films-"The Temple Builder" & "Beyond Black Rock"
LOCATION:Victoria Theatre, 2961 16th St. San Francisco; www.victoriatheatre.org; 
 415-863-7576
URL:https://www.indybay.org/newsitems/2006/04/11/94573.php
DTSTART:20060420T020000Z
DTEND:20060420T060000Z
END:VEVENT
END:VCALENDAR
