BEGIN:VCALENDAR
VERSION:2.0
X-WR-CALNAME:www.indybay.org
PRODID:-//indybay/ical// v1.0//EN
BEGIN:VEVENT
UID:Indybay-9453
SEQUENCE:9453
CREATED:20040203T182400Z
DESCRIPTION:Who are the Real Terrorists!?\nJoin us for three films about the Animal 
 Liberation Front and decide for yourself.\n\n$5 Donation Requested\n 
 https://www.indybay.org/newsitems/2004/02/03/9453.php
SUMMARY:Animal Liberation Front Video Showing
LOCATION:Artists Television Access (ATA)\n992 Valencia (@21st), sf
URL:https://www.indybay.org/newsitems/2004/02/03/9453.php
DTSTART:20020823T030000Z
DTEND:20020823T050000Z
END:VEVENT
END:VCALENDAR
