BEGIN:VCALENDAR
VERSION:2.0
X-WR-CALNAME:www.indybay.org
PRODID:-//indybay/ical// v1.0//EN
BEGIN:VEVENT
UID:Indybay-94413
SEQUENCE:94413
CREATED:20060411T021100Z
DESCRIPTION:LOOSE CHANGE 911  (2nd edition)   Film showing with film makers to speak   
 After the film: Q and A with the film makers!   \n 
 https://www.indybay.org/newsitems/2006/04/10/94413.php
SUMMARY:Loose Change (2nd Edition)
LOCATION:Grand Lake Theater   3200 Grand Avenue   Oakland 
URL:https://www.indybay.org/newsitems/2006/04/10/94413.php
DTSTART:20060503T020000Z
DTEND:20060503T040000Z
END:VEVENT
END:VCALENDAR
