BEGIN:VCALENDAR
VERSION:2.0
X-WR-CALNAME:www.indybay.org
PRODID:-//indybay/ical// v1.0//EN
BEGIN:VEVENT
UID:Indybay-943
SEQUENCE:943
CREATED:20040203T182500Z
DESCRIPTION:Hear fair trade activist Nick Galasso talk about the human, economic and 
 environmental effects of Globalization\nThen see activist documentary "this 
 is what democracy looks like" about the 1999 Seattle protests against the 
 WTO.\nA special treat, is a man (I don't have his name!) from Mexico who is 
 working to reclaim indigenous people's lands.  \nHe'll have a short film 
 and slide show.  \n https://www.indybay.org/newsitems/2004/02/03/943.php
SUMMARY:Globalization 101
LOCATION:580 at MacArthur Blvd: 5000 MacArthur. In the Student Union
URL:https://www.indybay.org/newsitems/2004/02/03/943.php
DTSTART:20011024T020000Z
DTEND:20011024T050000Z
END:VEVENT
END:VCALENDAR
