BEGIN:VCALENDAR
VERSION:2.0
X-WR-CALNAME:www.indybay.org
PRODID:-//indybay/ical// v1.0//EN
BEGIN:VEVENT
UID:Indybay-9423
SEQUENCE:9423
CREATED:20040203T182400Z
DESCRIPTION:This film provides a close-up look at the Zapatista rebellion in Chiapas 
 Mexico, covering the 1996 uprising up to "La Marcha de los Colores" - the 
 march on Mexico City in 2000. \n 
 https://www.indybay.org/newsitems/2004/02/03/9423.php
SUMMARY:Zapatista film: Storm from the Mountain
LOCATION:Women's Building\n3543 18th St (between Valencia/Dolores)\nSan 
 Francisco\n(Close to 16th St. BART) 
URL:https://www.indybay.org/newsitems/2004/02/03/9423.php
DTSTART:20020814T013000Z
DTEND:20020814T033000Z
END:VEVENT
END:VCALENDAR
