BEGIN:VCALENDAR
VERSION:2.0
X-WR-CALNAME:www.indybay.org
PRODID:-//indybay/ical// v1.0//EN
BEGIN:VEVENT
UID:Indybay-93843
SEQUENCE:93843
CREATED:20060405T191200Z
DESCRIPTION:Come out on Tax Day and Palestinian Political Prisoners Day to demonstrate 
 against the use of our taxes to fund occupation, imprisonment, and 
 repression in Palestine, Iraq, and right here at home.  The event will 
 begin with a press conference at 11:30 and a 12:00 rally in front of Dianne 
 Feinstein's office.   At 12:30 there will be a march to the Israeli 
 Consulate.  END FUNDING FOR APARTHEID AND IMPRISONMENT  WE DEMAND FUNDING 
 FOR PEOPLE'S NEEDS, HOUSING, & HEALTHCARE!  Sponsored by SUSTAIN, ADC-SF\n 
 https://www.indybay.org/newsitems/2006/04/05/93843.php
SUMMARY:TAX DAY & PALESTINIAN POLITICAL PRISONERS DAY  DEMONSTRATION
LOCATION:Intersection of Montgomerey and Market (Near Montgomerey BART)
URL:https://www.indybay.org/newsitems/2006/04/05/93843.php
DTSTART:20060417T190000Z
DTEND:20060417T210000Z
END:VEVENT
END:VCALENDAR
