BEGIN:VCALENDAR
VERSION:2.0
X-WR-CALNAME:www.indybay.org
PRODID:-//indybay/ical// v1.0//EN
BEGIN:VEVENT
UID:Indybay-91893
SEQUENCE:91893
CREATED:20060316T071900Z
DESCRIPTION:SF Bay Tour for Chernoh Alpha Bah, who is the director of the Africanist 
 Movement in Sierra Leone and eight other countries of West Africa.  This 
 speaking engagement will feature Bah and Omali Yeshitela, leader of the 
 Uhuru Movement, to speak about their efforts to build the African Socialist 
 International, a worldwide movement committed to organizing African people 
 in Africa and dispersed around the world to unite and liberate Africa.\n 
 https://www.indybay.org/newsitems/2006/03/15/91893.php
SUMMARY:Diamond Wars, child soldiers, and the worldwide struggle for African Liberation
LOCATION:Uhuru House, 7911 MacArthur Blvd
URL:https://www.indybay.org/newsitems/2006/03/15/91893.php
DTSTART:20060412T020000Z
DTEND:20060412T050000Z
END:VEVENT
END:VCALENDAR
