BEGIN:VCALENDAR
VERSION:2.0
X-WR-CALNAME:www.indybay.org
PRODID:-//indybay/ical// v1.0//EN
BEGIN:VEVENT
UID:Indybay-91003
SEQUENCE:91003
CREATED:20060308T211600Z
DESCRIPTION:Comic writer/performance artist Lou Montgomery, creator of Kalis Follies, 
 Coming Clean, and Pachamama Rides Again, will present her new original 
 work. Join her in her latest madcap adventure as she theatrically takes on 
 the imprisoning matrix of delusion-- consisting of everything from global 
 crises and consumer culture to our cellular DNA --and breaks through into 
 uncharted worlds of possibilities. Through deconstructing the insanity of 
 our most cherished false beliefs and firing up creative imagination we can 
 all escape the matrix. A passionate explorer of consciousness and 
 cultural/environmental  meta-trends, Montgomery is a performer noted for 
 her blend of feisty comic ingenuity and psychological depth. $15 Donation\n 
 https://www.indybay.org/newsitems/2006/03/08/91003.php
SUMMARY:Escaping the Matrix with Lou Montgomery
LOCATION:99 6th St  (6th & Wilson in RailRoad Square)
URL:https://www.indybay.org/newsitems/2006/03/08/91003.php
DTSTART:20060325T040000Z
DTEND:20060325T060000Z
END:VEVENT
END:VCALENDAR
