BEGIN:VCALENDAR
VERSION:2.0
X-WR-CALNAME:www.indybay.org
PRODID:-//indybay/ical// v1.0//EN
BEGIN:VEVENT
UID:Indybay-90473
SEQUENCE:90473
CREATED:20060408T003300Z
DESCRIPTION:Reel Work presents "North Country"   (Directed by Nike Caro, 2005, 126 
 min), the first major successful workplace sexual harassment case in the 
 US.  Stay after the film for Q & A with some of the workers who led the 
 movement.  \n https://www.indybay.org/newsitems/2006/04/07/90473.php
SUMMARY:Reel Work Film Festival: North Country
LOCATION:Nickelodeon Theater  210 Lincoln Street, Santa Cruz  Downtown, 4 blocks NW 
 of Metro Center
URL:https://www.indybay.org/newsitems/2006/04/07/90473.php
DTSTART:20060423T190000Z
DTEND:20060423T220000Z
END:VEVENT
END:VCALENDAR
