BEGIN:VCALENDAR
VERSION:2.0
X-WR-CALNAME:www.indybay.org
PRODID:-//indybay/ical// v1.0//EN
BEGIN:VEVENT
UID:Indybay-89703
SEQUENCE:89703
CREATED:20060302T055200Z
DESCRIPTION:\n https://www.indybay.org/newsitems/2006/03/01/89703.php
SUMMARY:Mass Picket Berkeley Honda - March 4
LOCATION:Berkeley Honda  Shattuck & Parker in Berkeley
URL:https://www.indybay.org/newsitems/2006/03/01/89703.php
DTSTART:20060304T210000Z
DTEND:20060305T000000Z
END:VEVENT
END:VCALENDAR
