BEGIN:VCALENDAR
VERSION:2.0
X-WR-CALNAME:www.indybay.org
PRODID:-//indybay/ical// v1.0//EN
BEGIN:VEVENT
UID:Indybay-8953
SEQUENCE:8953
CREATED:20040203T182500Z
DESCRIPTION:There can be no peace without justice;\nNo justice without sharing.\n\nThe 
 Great Choice for Humanity\n\nAn enlightening evening with British futurist 
 Benjamin Creme\n\nSoon humanity will be called on to make a choice — to 
 share the wealth for the general good, creating justice and peace in the 
 world, or to allow the world to be run for the benefit of the few, leading 
 to the destruction of the planet. How will humanity respond in the 
 momentous time just ahead?\n\nFree talk with Q&A\nTuesday, August 6, 2002, 
 7:30 p.m.\nNob Hill Masonic Center\n1111 California (at Taylor)\nSan 
 Francisco\nWheel chair accessible\nFor more information: 1-888-877-8272 
 (toll-free)\n\n https://www.indybay.org/newsitems/2004/02/03/8953.php
SUMMARY:The Great Choice for Humanity
LOCATION:Nob Hill Masonic Center, 1111 California (at Taylor)
URL:https://www.indybay.org/newsitems/2004/02/03/8953.php
DTSTART:20020807T023000Z
DTEND:20020807T053000Z
END:VEVENT
END:VCALENDAR
