BEGIN:VCALENDAR
VERSION:2.0
X-WR-CALNAME:www.indybay.org
PRODID:-//indybay/ical// v1.0//EN
BEGIN:VEVENT
UID:Indybay-89093
SEQUENCE:89093
CREATED:20060224T024800Z
DESCRIPTION:San Jose Critical Mass meets every Last Friday of the month downtown San 
 Jose at the park at 6:30pm.  We take off for a jaunt of 1-1.5 hours, 
 obeying most traffic rules (especially ones about bicyclists' rights), 
 aiming for visibility and a fun party atmosphere.    Show up and join the 
 party!  All ages welcome, legal bicycling gear required (i.e. front+rear 
 lights), but we're not the ones checking.  \n 
 https://www.indybay.org/newsitems/2006/02/23/89093.php
SUMMARY:San Jose Bike Party!
LOCATION:Plaza de Cezar Chavez Park  downtown San Jose  Market and Park Streets - by 
 the fountains (not running in winter)
URL:https://www.indybay.org/newsitems/2006/02/23/89093.php
DTSTART:20060225T023000Z
DTEND:20060225T033000Z
END:VEVENT
END:VCALENDAR
