BEGIN:VCALENDAR
VERSION:2.0
X-WR-CALNAME:www.indybay.org
PRODID:-//indybay/ical// v1.0//EN
BEGIN:VEVENT
UID:Indybay-88593
SEQUENCE:88593
CREATED:20060221T185000Z
DESCRIPTION:Sessions and Activities:  -History of the Iraq War  -Demilitarization  
 -Counter Recruitment  -The coming war with Iran  -Pentagon's spying on SAW  
 -Speech by Activist Todd Chretien  The first teach-in will be held Tuesday, 
 February 21st at Oaks 105 at 7pm.  The second teach-in will be held 
 Wednesday, March 1st at Classroom Unit 2 at 7 pm.  Organized by SAW and 
 Co-sponsored by UCSC Community Studies Department  "Peace cannot be kept 
 through force. It can only be achieved by understanding." - Einstein\n 
 https://www.indybay.org/newsitems/2006/02/21/88593.php
SUMMARY:Students Against War Teach-In
LOCATION:Oakes 105, UC Santa Cruz
URL:https://www.indybay.org/newsitems/2006/02/21/88593.php
DTSTART:20060222T030000Z
DTEND:20060222T050000Z
END:VEVENT
END:VCALENDAR
