BEGIN:VCALENDAR
VERSION:2.0
X-WR-CALNAME:www.indybay.org
PRODID:-//indybay/ical// v1.0//EN
BEGIN:VEVENT
UID:Indybay-88553
SEQUENCE:88553
CREATED:20060221T072800Z
DESCRIPTION:WILPF Monthly Meeting  Tue, Feb 21, 7:00pm  Friends Meeting House, 225 
 Rooney St, Santa Cruz. (North of Hwy 1 at Morrissey exit.)  Clean-Up on the 
 Gulf Coast: Mathilde Rand, retired school principal and WILPF member, will 
 present and discuss her video Come on Home about post-Katrina clean-up. 
 Paul Ortiz, Associate Professor of Community Studies at UCSC and WILPF 
 member, will provide history and context for the disaster. Join us!  --     
 ~~~~~~~~~~~~~~~~~~~~~~~~~~~~  MAKE PEACE A REALITY - JOIN WILPF:  
 http://www.wilpf.org/get-involved/join.htm  Nat'l Membership Blog: 
 http://wilpf.blogspot.com  Santa Cruz County:  http://wilpf.got.net  United 
 States section:  http://www.wilpf.org  International:  
 http://www.wilpf.int.ch/index.htm  Jane Addams Peace Assn: 
 http://www.janeaddamspeace.org\n 
 https://www.indybay.org/newsitems/2006/02/20/88553.php
SUMMARY:WILPF meeting: Gulf Coast Clean-Up
LOCATION:Friends Meeting House, 225 Rooney St, Santa Cruz. (North of Hwy 1 at 
 Morrissey exit.)
URL:https://www.indybay.org/newsitems/2006/02/20/88553.php
DTSTART:20060222T030000Z
DTEND:20060222T050000Z
END:VEVENT
END:VCALENDAR
