BEGIN:VCALENDAR
VERSION:2.0
X-WR-CALNAME:www.indybay.org
PRODID:-//indybay/ical// v1.0//EN
BEGIN:VEVENT
UID:Indybay-8853
SEQUENCE:8853
CREATED:20040203T182500Z
DESCRIPTION:Oakland Riders Trial Demo and Press Conference\nby InPDUM Oakland • 
 Thursday July 11, 2002 at 03:16 PM\noaktownuhuru@yahoo.com 510-569-9620 
 \n\nCome and demonstrate at the opening of the Oakland Riders trial this 
 coming Monday, July 15th at 9am at the Alameda County Courthouse, 1221 Oak 
 St. \n\nThe International People's Democratic Uhuru Movement (InPDUM) 
 Oakland branch is sponsoring this demonstration and press conference and 
 invites all other organizations and individuals to participate. \n\nThe 
 "Oakland Riders" are the four cops who are facing criminal charges on 44 
 felony and misdemeanor counts, including charges of planting drug evidence, 
 kidnapping and severely beating innocent people. The InPDUM understands 
 that the "Riders" represents the rule and not the exception when it comes 
 to the role of the police in the black community and other oppressed 
 communities. \n\nWe must utilize this demonstration to publicize the 
 following demands: \n\n1. Criminal Prosecution for the four "Oakland 
 Rider"cops \n2. Reparations to all the victims of the "Oakland Riders" \n3. 
 A public apology from OPD Chief Word and Mayor Jerry Brown \n4. Justice for 
 all the victims of OPD violence and brutality \n5. Justice for Jamil 
 (Wheatfall) Jamil Muwwakkil \n\nPlease contact (510) 569-9620 or show up on 
 Monday morning!\n\n\n https://www.indybay.org/newsitems/2004/02/03/8853.php
SUMMARY:Oakland Riders Trial Demo!
LOCATION:Alameda County Courthouse, 1221 Oak St., Oakland
URL:https://www.indybay.org/newsitems/2004/02/03/8853.php
DTSTART:20020715T160000Z
DTEND:20020715T170000Z
END:VEVENT
END:VCALENDAR
