BEGIN:VCALENDAR
VERSION:2.0
X-WR-CALNAME:www.indybay.org
PRODID:-//indybay/ical// v1.0//EN
BEGIN:VEVENT
UID:Indybay-87833
SEQUENCE:87833
CREATED:20060213T232500Z
DESCRIPTION:The World Affairs Council is very pleased to welcome Carolina Barco, 
 Colombia's Foreign Minister, for a special presentation. She will discuss 
 internal affairs in her Country and Colombia's ongoing drug war and 
 relations with the US and Latin neighbors.  When: Thursday, February 17; 
 Check In: 11:30 AM, Program: 12:00 Noon  Where: World Affairs Council, 312 
 Sutter St., 2nd Floor Auditorium, San Francisco  Admission Costs: Council 
 members: FREE; Students w/ ID: $5; Non-members: $15  Info: (415) 293-4600, 
 info@wacsf.org, http://www.itsyourworld.org  \n 
 https://www.indybay.org/newsitems/2006/02/13/87833.php
SUMMARY:Carolina Barco, Foreign Minister of the Republic of Colombia @ World Affairs Cou
LOCATION:World Affairs Council, 312 Sutter St., 2nd Floor Auditorium, San Francisco
URL:https://www.indybay.org/newsitems/2006/02/13/87833.php
DTSTART:20060217T193000Z
DTEND:20060217T213000Z
END:VEVENT
END:VCALENDAR
