BEGIN:VCALENDAR
VERSION:2.0
X-WR-CALNAME:www.indybay.org
PRODID:-//indybay/ical// v1.0//EN
BEGIN:VEVENT
UID:Indybay-87693
SEQUENCE:87693
CREATED:20060212T052900Z
DESCRIPTION:Tuesday, February 28, 6:30 pm - 8 pm   New College of California   MEDIA 
 STUDIES MA PROGRAM - OPEN HOUSE   New College, 766 Valencia St., Room 11B, 
 San Francisco   Come to our Open House and learn about the Media Studies MA 
 Program at New College. See student work, meet with faculty and students, 
 tour the Digital Theater media lab, discuss your plans and ask questions. 
 Light refreshments will be served.   Make Media that Makes a Difference!!   
 Offering an innovative media studies education for social change, the New 
 College Media Studies Graduate Program is founded on the belief that 
 vibrant alternative media are urgently needed to renew our democracy and 
 achieve peace and social justice. The program encourages media makers to 
 speak truth to power, expose injustice and enable marginalized communities 
 to utilize media – and in these ways create a forum for the practice of 
 democracy.   For more information, visit the New College Media Studies 
 website at http://www.newcollege.edu/media_studies/ or call Mary Ellen 
 Churchill at 415-437-3494.   \n 
 https://www.indybay.org/newsitems/2006/02/11/87693.php
SUMMARY:New College Media Studies MA Program - Open House / Info Session
LOCATION:New College of California, 766 Valencia St., Room 11B, San Francisco   
URL:https://www.indybay.org/newsitems/2006/02/11/87693.php
DTSTART:20060301T023000Z
DTEND:20060301T043000Z
END:VEVENT
END:VCALENDAR
