BEGIN:VCALENDAR
VERSION:2.0
X-WR-CALNAME:www.indybay.org
PRODID:-//indybay/ical// v1.0//EN
BEGIN:VEVENT
UID:Indybay-87653
SEQUENCE:87653
CREATED:20060211T235900Z
DESCRIPTION:On Valentine's Day a recently organized group of grandmothers  wearing 
 camouflage hats will attempt to enlist at the Army recruitment center in 
 Oakland.  As an act of love they will offer themselves as replacements for 
 young soldiers in Iraq.  Grandmothers in 14 cities across  the country will 
 also attempt to enlist following the lead of the New York group who tried 
 to enlist in the Times Square army office and were subsequently arrested.  
 Also in attendance will be The Mourning Mothers, Iraq war veterans  and 
 singers Ronnie Gilbert and Barbara Dane,  Sponsors:  East Bay NOW, 
 Grandmothers for Peace, Bay Area Women in Black, East Bay Progressive 
 Democrats, Women for Peace, Women's Int'l League for Peace/Freedom.\n 
 https://www.indybay.org/newsitems/2006/02/11/87653.php
SUMMARY:GRANDMOTHERS TRY TO ENLIST ON VALENTINE'S DAY
LOCATION:Army Recruiting Station  2116 Broadway  @ 21st St  Oakland  CA
URL:https://www.indybay.org/newsitems/2006/02/11/87653.php
DTSTART:20060214T200000Z
DTEND:20060214T210000Z
END:VEVENT
END:VCALENDAR
