BEGIN:VCALENDAR
VERSION:2.0
X-WR-CALNAME:www.indybay.org
PRODID:-//indybay/ical// v1.0//EN
BEGIN:VEVENT
UID:Indybay-8763
SEQUENCE:8763
CREATED:20040203T182400Z
DESCRIPTION:Workers World Party Forum\nArgentina: a new phase in the 
 struggle\nArgentina is increasingly becoming known as "ground zero" in the 
 struggle against IMF/World Bank corporate globalization. Speaker Alicia 
 Jrapko, who spent the month of March in Argentina, gives analysis of its 
 recent history of economic crisis and \nsocial rebellion. \nPLUS: video 
 from  mass protests in Cordova and Buenos Aires on the 26th anniversary of 
 the coup. \n\n https://www.indybay.org/newsitems/2004/02/03/8763.php
SUMMARY:ARGENTINA: a new phase in the struggle
LOCATION:2489 Mission St. Rm. 28, SF\non Mission between 20th and 21st Streets, #14, 
 49, 22, 33 MUNI, 24th St. BART
URL:https://www.indybay.org/newsitems/2004/02/03/8763.php
DTSTART:20020708T000000Z
DTEND:20020708T020000Z
END:VEVENT
END:VCALENDAR
