BEGIN:VCALENDAR
VERSION:2.0
X-WR-CALNAME:www.indybay.org
PRODID:-//indybay/ical// v1.0//EN
BEGIN:VEVENT
UID:Indybay-87613
SEQUENCE:87613
CREATED:20060211T022900Z
DESCRIPTION:Learn what you can do to help legalize same sex marriage in CA.  Attend the 
 Organization for Fairness and Equality's first meeting to see what you can 
 do to help.  You will learn what we're doing, what we've done, and what we 
 still have to do in order to get same-sex marriage legalized in California. 
    \n https://www.indybay.org/newsitems/2006/02/10/87613.php
SUMMARY:HELP LEGALIZE SAME-SEX MARRIAGE IN CALIFORNIA
LOCATION:249 10th St  Marina, CA 93933
URL:https://www.indybay.org/newsitems/2006/02/10/87613.php
DTSTART:20060217T030000Z
DTEND:20060217T050000Z
END:VEVENT
END:VCALENDAR
