BEGIN:VCALENDAR
VERSION:2.0
X-WR-CALNAME:www.indybay.org
PRODID:-//indybay/ical// v1.0//EN
BEGIN:VEVENT
UID:Indybay-87443
SEQUENCE:87443
CREATED:20060225T061100Z
DESCRIPTION:Saturday February 25th,  join us for an evening of conscious music and ass 
 shaking beats with:  - Ryan Harvey of Riot Folk  - Drowning Dog and Dj 
 Malatesta of Entartete Kunst (downtempo hip-hop / grime)   - Beltaine's 
 Fire   (live celtic / hip hop / rock fusion)  hosted by Emcee Lynx   hit up 
 http://emceelynx.circlealpha.com for more info.\n 
 https://www.indybay.org/newsitems/2006/02/24/87443.php
SUMMARY:a revolution you can dance too...
LOCATION:Station 40, 3030b 16th st @ Mission.   Doors open at 5 and we're done by 
 9pm.    get your party started early!
URL:https://www.indybay.org/newsitems/2006/02/24/87443.php
DTSTART:20060226T010000Z
DTEND:20060226T050000Z
END:VEVENT
END:VCALENDAR
