BEGIN:VCALENDAR
VERSION:2.0
X-WR-CALNAME:www.indybay.org
PRODID:-//indybay/ical// v1.0//EN
BEGIN:VEVENT
UID:Indybay-87393
SEQUENCE:87393
CREATED:20060208T175800Z
DESCRIPTION:La Mafia en La Habana  A documentary film from Cuba about the 
 pre-revolutionary reign of the Mafia  in Havana.  This incredible period is 
 revealed through interviews with  people who worked with mythical figures 
 such as Meyer Lanski and Lucky  Luciano.  Rich and famous Americans flocked 
 to the lavish resorts and  casinos.  Historical film clips show how life 
 was good for those at the top  of the social order.  The film tells how all 
 this ended with the revolution,  and the repercussions from the Mafia for 
 losing their empire.    \n 
 https://www.indybay.org/newsitems/2006/02/08/87393.php
SUMMARY:La Mafia en La Habana
LOCATION:Santa Cruz Live Oak Grange, 1900 17th Ave.  Santa Cruz, CA 95062
URL:https://www.indybay.org/newsitems/2006/02/08/87393.php
DTSTART:20060217T030000Z
DTEND:20060217T050000Z
END:VEVENT
END:VCALENDAR
