BEGIN:VCALENDAR
VERSION:2.0
X-WR-CALNAME:www.indybay.org
PRODID:-//indybay/ical// v1.0//EN
BEGIN:VEVENT
UID:Indybay-85463
SEQUENCE:85463
CREATED:20060123T061100Z
DESCRIPTION:PETER CAMEJO of the Green Party with   Jennifer Kidder, long-time peace, 
 labor and voting rights activist   "How'd You Become an Activist?  What 
 Now?"   Camejo is running for CA governor.   He was the first Green Party 
 candidate to be permitted to participate in televised debates.   Ronald 
 Reagan called him "The Most Dangerous Man in America."   $10 donation 
 suggested, sliding scale   produced by BFUU's Social Justice Committee   \n 
 https://www.indybay.org/newsitems/2006/01/22/85463.php
SUMMARY:Peter Camejo & Jennifer Kidder
LOCATION:BERKELEY FELLOWSHIP of UNITARIAN UNIVERSALISTS  HALL   1924 Cedar (at 
 Bonita);  wheelchair accessible.   
URL:https://www.indybay.org/newsitems/2006/01/22/85463.php
DTSTART:20060225T030000Z
DTEND:20060225T050000Z
END:VEVENT
END:VCALENDAR
