BEGIN:VCALENDAR
VERSION:2.0
X-WR-CALNAME:www.indybay.org
PRODID:-//indybay/ical// v1.0//EN
BEGIN:VEVENT
UID:Indybay-84693
SEQUENCE:84693
CREATED:20060110T085200Z
DESCRIPTION:LARRY BENSKY delivers Keynote Address “THE U.S. SEES THE UNITED NATIONS: 
 A MEDIA ANALYSIS” at the 42nd Annual General Meeting of the United 
 Nations Association-USA, East Bay Chapter.  This event is open to the 
 Public.  LARRY BENSKY is a prominent former national affairs correspondent 
 for Pacifica Radio - KPFA (FM 94.1) and is the current host of the weekly 
 two-hour Sunday morning radio talk show, "Sunday Salon” on KPFA.  General 
 Info:      - Free admission. Light refreshments will be served.  - A 
 UNA-USA Business Meeting takes place from 2:00-3:20pm.  - Everybody is 
 welcome.  The UNA – USA, East Bay Chapter's vision is a world in which 
 humanity is spared the scourge of war, human rights are honored, the 
 natural environment is protected, and the United States is a constructive 
 member of the United Nations for the well-being of all humankind. Our 
 mission is to educate, mobilize and inspire people in the U.S. to support 
 the principles and vital work of the United Nations, to strengthen the UN 
 system, and to press for constructive U.S. leadership in that system.  We 
 look forward to seeing you there!\n 
 https://www.indybay.org/newsitems/2006/01/10/84693.php
SUMMARY:Larry Bensky delivers Keynote Address: "The U.S. Sees the United Nations: A Medi
LOCATION:1924 Cedar St. at Bonita St., Berkeley  94709
URL:https://www.indybay.org/newsitems/2006/01/10/84693.php
DTSTART:20060122T233000Z
DTEND:20060123T003000Z
END:VEVENT
END:VCALENDAR
