BEGIN:VCALENDAR
VERSION:2.0
X-WR-CALNAME:www.indybay.org
PRODID:-//indybay/ical// v1.0//EN
BEGIN:VEVENT
UID:Indybay-84503
SEQUENCE:84503
CREATED:20060106T073800Z
DESCRIPTION:Gather with members of the Human Rights Commission, American Civil 
 Liberties Union, Civil Liberties Monitoring Project and the Green Party to 
 collaborate on upcoming campaigns to implement civilian review of law 
 enforcement in local cities this year!\n 
 https://www.indybay.org/newsitems/2006/01/05/84503.php
SUMMARY:Eureka: Coalition for Police Review
LOCATION:ACLU office (shared with Law Office of Peter Martin), 3rd and J Street
URL:https://www.indybay.org/newsitems/2006/01/05/84503.php
DTSTART:20060112T020000Z
DTEND:20060112T040000Z
END:VEVENT
END:VCALENDAR
