BEGIN:VCALENDAR
VERSION:2.0
X-WR-CALNAME:www.indybay.org
PRODID:-//indybay/ical// v1.0//EN
BEGIN:VEVENT
UID:Indybay-84443
SEQUENCE:84443
CREATED:20060207T232200Z
DESCRIPTION:I love you -\n& LUV IS free!\nShare your poetic visions of the Liberation 
 of Love & Romance on Valentine’s Day and Beyond!\n \nOUR LITTLE 
 THEATER\n287 Ellis Street @ Taylor  \nSunday, February 12, 2006 – 5 
 PM\nRSVP by Friday, February 9: Rebellis@riseup.net\n \n\n\nSliding scale 
 donation to space: $5-$10, no one turned away for lack of funds.\n\n 
 https://www.indybay.org/newsitems/2006/02/07/84443.php
SUMMARY:Luv is Free Spoken Word
LOCATION:287 Ellis Street @ Taylor 
URL:https://www.indybay.org/newsitems/2006/02/07/84443.php
DTSTART:20060213T010000Z
DTEND:20060213T030000Z
END:VEVENT
END:VCALENDAR
