BEGIN:VCALENDAR
VERSION:2.0
X-WR-CALNAME:www.indybay.org
PRODID:-//indybay/ical// v1.0//EN
BEGIN:VEVENT
UID:Indybay-83083
SEQUENCE:83083
CREATED:20051210T091600Z
DESCRIPTION:San Francisco  International Human Rights Day Neighborhood Celebration  
 Dec. 10, 2005 10:30 am-12:30pm    We are gathering in San Francisco, Los 
 Angeles and Ventura neighborhoods to spread the word about the deadly 
 effects of the small arms trade. With your help, we can inform people not 
 only about the problems, but also about the solutions.  \nFree coffee and 
 bagels. \nAll welcome\n Click here for a map:   Please RSVP to Laura 
 Reinhard or 510.849.2272 ext 107   \n 
 https://www.indybay.org/newsitems/2005/12/10/83083.php
SUMMARY:International Human Rights Day Neighborhood Celebration GG Park
LOCATION:Meet at Golden Gate Park, in front of the County Fair Building  9th and 
 Lincoln at the Peace Education Fund table 
URL:https://www.indybay.org/newsitems/2005/12/10/83083.php
DTSTART:20051210T183000Z
DTEND:20051210T203000Z
END:VEVENT
END:VCALENDAR
