BEGIN:VCALENDAR
VERSION:2.0
X-WR-CALNAME:www.indybay.org
PRODID:-//indybay/ical// v1.0//EN
BEGIN:VEVENT
UID:Indybay-82673
SEQUENCE:82673
CREATED:20051206T112800Z
DESCRIPTION:Come join East Bay Animal Advocates as it exposes Foster Farms' inhumane 
 treatment of animals. Safeway is one of Foster Farms' top suppliers.   
 Please visit http://www.fosterfacts.net for more information.   \n 
 https://www.indybay.org/newsitems/2005/12/06/82673.php
SUMMARY:Foster Farms Cruelty Leafleting
LOCATION:Safeway, 10636 San Pablo Ave (at Moeser)
URL:https://www.indybay.org/newsitems/2005/12/06/82673.php
DTSTART:20051207T030000Z
DTEND:20051207T040000Z
END:VEVENT
END:VCALENDAR
