BEGIN:VCALENDAR
VERSION:2.0
X-WR-CALNAME:www.indybay.org
PRODID:-//indybay/ical// v1.0//EN
BEGIN:VEVENT
UID:Indybay-82483
SEQUENCE:82483
CREATED:20051203T201900Z
DESCRIPTION:***The Time is NOW: Bay Area Event Uniting Global & Local Climate Crisis 
 Issues!!!***  The SF Bay Area Says Stop Global Warming NOW! Bay Area 
 environmental and social  justice groups, San Francisco Supervisors Ross 
 Mirkarimi and Tom Ammiano, concerned residents, and a GROVE of GIANT 
 CALIFORNIA REDWOOD TREES join in spirit with 10,000 delegates from 189 
 countries, THOUSANDS of activists in the streets of Montreal, and hundreds 
 of solidarity actions around the globe to say NO TO GLOBAL WARMING and 
 highlight what we can do about it! As the first UN Climate Summit since 
 KYOTO unfolds in Montreal (Nov 28--Dec 9), Global Exchange, Rainforest 
 Action Network, and many others, invite you to a PRESS CONFERENCE, & SHORT 
 MARCH from SF City Hall to the Federal Building, to demonstrate broad 
 support for immediate implementation of local, state, and federal policies 
 to Stop the Climate Crisis, fast becoming the overarching issue facing the 
 planet today!!!   ***For more information, to endorse, to volunteer, to BE 
 a DELEGATE or GIANT REDWOOD TREE (once in a lifetime ;-), please contact 
 chalicenew@earthlink.net 415-731-7924!!!***  \n 
 https://www.indybay.org/newsitems/2005/12/03/82483.php
SUMMARY:The Time is Now: Bay Area Action to Stop Global Warming!
LOCATION:SF City Hall Steps (Polk, between Grove & McAllister -- Civic Center BART)
URL:https://www.indybay.org/newsitems/2005/12/03/82483.php
DTSTART:20051207T210000Z
DTEND:20051207T220000Z
END:VEVENT
END:VCALENDAR
