BEGIN:VCALENDAR
VERSION:2.0
X-WR-CALNAME:www.indybay.org
PRODID:-//indybay/ical// v1.0//EN
BEGIN:VEVENT
UID:Indybay-8233
SEQUENCE:8233
CREATED:20040203T182400Z
DESCRIPTION:On June 13 it will be exactly one year since Idriss Stelley, was shot more 
 than 20 times and killed by the police at the Sony Metreon Theater in San 
 Francisco.\nWe are suffering a crisis of violence against African-Americans 
 and Idriss' death was but one example. Show that our community will not 
 turn a blind eye to police violence and racial profiling.\n\nCelebrate 
 Idriss’ life and mourn his death\nJUNE 13 2002 5:30 pm 4th & Mission\nfor 
 a Processional March to City Hall\nwhere there will be speakers and 
 music\nReggae with I-Ration\n\nHELP NOT HOMICIDE\nfor people in mental 
 distress\n\nNO MORE RACIAL PROFILING\n\n\n\n 
 https://www.indybay.org/newsitems/2004/02/03/8233.php
SUMMARY:Justice for Idriss Anniversary March & Rally
LOCATION:Meet 5;30 in front of the Metreon @4th & Mission\nMarch to the steps of 
 City Hall
URL:https://www.indybay.org/newsitems/2004/02/03/8233.php
DTSTART:20020614T003000Z
DTEND:20020614T023000Z
END:VEVENT
END:VCALENDAR
