BEGIN:VCALENDAR
VERSION:2.0
X-WR-CALNAME:www.indybay.org
PRODID:-//indybay/ical// v1.0//EN
BEGIN:VEVENT
UID:Indybay-82033
SEQUENCE:82033
CREATED:20051128T005800Z
DESCRIPTION:DECEMBER 4, 2005   Screening of Redemption   Danny Glover invites you to a 
 screening of "Redemption: The Stan Tookie Williams Story"   Where: Victoria 
 Theatre, 2961 16th Street in San Francisco   (next to the 16th Street and 
 Mission BART Station)   When: December 04, 2005 at 5pm   Why: Help STOP THE 
 December 13th EXECUTION of Nobel Peace Prize Nominee Stan Tookie Williams   
 Danny Glover, Barbara Becnel and Kevin Epps will host a short program 
 before the movie to explain the status of Stan's case and let people know 
 how to get involved in the movement to stop the execution. With only a few 
 weeks left before the execution date, your help is urgently needed. Please 
 join us in the fight to save Stan's life.   This event is a fund-raiser for 
 the San Francisco Save Tookie Coalition. Tickets are $5 for 
 students/youth/seniors and $10 for the general public.   Co-sponsors and 
 endorsers welcome; donations appreciated. Please contact Danielle at 
 Danielle@vanguardsf.org or 415-581-2512 for more information about 
 endorsing or co-sponsoring the event. Tickets available at 
 http://www.victoriatheatre.org or at the door. \n 
 https://www.indybay.org/newsitems/2005/11/27/82033.php
SUMMARY:Danny Glover speaks for Tookie
LOCATION:16th Street and Capp Street, Victoria Theatre
URL:https://www.indybay.org/newsitems/2005/11/27/82033.php
DTSTART:20051205T010000Z
DTEND:20051205T030000Z
END:VEVENT
END:VCALENDAR
