BEGIN:VCALENDAR
VERSION:2.0
X-WR-CALNAME:www.indybay.org
PRODID:-//indybay/ical// v1.0//EN
BEGIN:VEVENT
UID:Indybay-81373
SEQUENCE:81373
CREATED:20051118T010300Z
DESCRIPTION:Turning the Tide:  Taking on Bush's Wars at Home and Abroad  Friday night 
 panel with  Cindy Sheehan, Gold Star Families for Peace  Peter Camejo, 
 Green Party  Barbara Becnel, Save Stan Tookie Williams Campaign  Todd 
 Chretien, International Socialist Organization  Sponsors include  CODEPINK  
 International Socialist Organization  Berkeley Stop the War Coalition\n 
 https://www.indybay.org/newsitems/2005/11/17/81373.php
SUMMARY:Cindy Sheehan and Peter Camejo speaking at "Turning the Tide" event
LOCATION:Valley Life Science Building, Room 2050  UC Berkeley
URL:https://www.indybay.org/newsitems/2005/11/17/81373.php
DTSTART:20051119T030000Z
DTEND:20051119T060000Z
END:VEVENT
END:VCALENDAR
