BEGIN:VCALENDAR
VERSION:2.0
X-WR-CALNAME:www.indybay.org
PRODID:-//indybay/ical// v1.0//EN
BEGIN:VEVENT
UID:Indybay-81213
SEQUENCE:81213
CREATED:20051115T122700Z
DESCRIPTION:Woodentoys Productor Factory Zhejiang Yunhe Jiegei Wooden Toys Factory is 
 located in Yunhe County in Zhejiang Province that is named as Zhejiang 's 
 Green Valley and China Wooden Toys City . We are specialized in producing 
 and exporting different woodentoys. Our factory has a plant area of more 
 than 3,000 m 2 . In the first half of 2006, new plants of more than 8,000 m 
 2 will finish the construction and then the annual capacity will be above 
 RMB20 million.\n https://www.indybay.org/newsitems/2005/11/15/81213.php
SUMMARY:Woodentoys
LOCATION:Woodentoys Productor Factory Zhejiang Yunhe Jiegei Wooden Toys Factory is 
 located in Yunhe County in Zhejiang Province that is named as Zhejiang 's 
 Green Valley and China Wooden Toys City . We are specialized in producing 
 and exporting different woodentoys. Our factory has a plant area of more 
 than 3,000 m 2 . In the first half of 2006, new plants of more than 8,000 m 
 2 will finish the construction and then the annual capacity will be above 
 RMB20 million.
URL:https://www.indybay.org/newsitems/2005/11/15/81213.php
DTSTART:20051115T200000Z
DTEND:20051115T210000Z
END:VEVENT
END:VCALENDAR
