BEGIN:VCALENDAR
VERSION:2.0
X-WR-CALNAME:www.indybay.org
PRODID:-//indybay/ical// v1.0//EN
BEGIN:VEVENT
UID:Indybay-80853
SEQUENCE:80853
CREATED:20051112T232000Z
DESCRIPTION:The Annual Blue Collar Art Auction   Auction Dates: November 11-30  FEMINA 
 POTENS ANNUAL BLUE COLLAR AUCTION  Femina Potens Gallery celebrates its 
 annual fundraiser and benefit, auctioning the donated works of female, 
 transgendered, and queer artists. Featuring a diverse collection of works 
 from well known and upcoming artists, including photography by R.A. 
 McBride, paintings by Cobi Moules and Syniva Whitney, works by Laura Splan, 
 Teri Claude Dowling, and many more. The silent auction will be held through 
 November 30. Come and show your support for Femina Potens Visual Arts 
 Program during gallery hours Thurs-Sun, 12-6PM.   Auctioning of works will 
 start at a mere $20 to enable accessibility of works to our community of 
 artists and activists.  Femina Potens is a local non-profit gallery, DIY 
 boutique, library, and workshop space dedicated since 2000 to promoting 
 women and transfolk in the arts.  Location:   Femina Potens Gallery  465 S. 
 Van Ness  San Francisco, CA 94110  Gallery Hours:  Thursday through Sunday  
 12Noon-6PM  Phone: 415.217.9340  Web: http://www.feminapotens.com  \n 
 https://www.indybay.org/newsitems/2005/11/12/80853.php
SUMMARY:Fundraiser for Femina Potens Gallery
LOCATION:465 S. Van Ness @16th St.  San Francisco 94110  
URL:https://www.indybay.org/newsitems/2005/11/12/80853.php
DTSTART:20051113T200000Z
DTEND:20051114T020000Z
END:VEVENT
END:VCALENDAR
