BEGIN:VCALENDAR
VERSION:2.0
X-WR-CALNAME:www.indybay.org
PRODID:-//indybay/ical// v1.0//EN
BEGIN:VEVENT
UID:Indybay-80533
SEQUENCE:80533
CREATED:20051109T164500Z
DESCRIPTION:You are invited to join SPAWN naturalists on a creek walk to view spawning 
 salmon! You will learn about their fascinating life history, local stream 
 ecosystems, and what you can do to help protect these endangered species.  
 RESERVATIONS REQUIRED: PLEASE CALL BETWEEN 9 AND 5 (M-F) TO RESERVE A 
 SPACE(415) 488-0370 ext. 107  WHEN  2 TOURS DAILY on Saturday and Sundays 
 at 10 am and 1 pm November 12th through January 15th  Special trips! 
 Wed-Fri, Nov. 23-25 and Thurs-Fri Dec. 22-23 and Thurs-Fri. Dec. 29-30  
 **YOU MUST CALL BETWEEN 9 AND 5 MONDAY - FRIDAY ONLY TO RESERVE A SPACE**  
 Contact (415) 488-0370 x107  WHERE  Participants will meet in the San 
 Geronimo Valley Cultural Center Parking Lot, 6350 Sir Francis Drake 
 Boulevard, San Geronimo (approximately 5 mi. west of Fairfax on Sir Francis 
 Drake Blvd.) and then carpool to various sites to look for salmon.  RAIN?  
 Tours will proceed rain or shine.  WEAR:  Warm Clothes, Galoshes or boots 
 and bring rain gear.  BRING:  If you wish, bring binoculars, camera and a 
 snack/drink.  PRICE:   MEMBERS - FREE  NON-MEMBERS - $6 (KIDS); $10 
 (ADULTS)*  *NO-ONE TURNED AWAY FOR LACK OF FUNDS  \n 
 https://www.indybay.org/newsitems/2005/11/09/80533.php
SUMMARY:Naturalist-led Creek Walks to View Endangered Spawning Salmon
LOCATION:Participants will meet in the San Geronimo Valley Cultural Center Parking 
 Lot, 6350 Sir Francis Drake Boulevard, San Geronimo (approximately 5 mi. 
 west of Fairfax on Sir Francis Drake Blvd.) and then carpool to various 
 sites to look for salmon.
URL:https://www.indybay.org/newsitems/2005/11/09/80533.php
DTSTART:20051113T180000Z
DTEND:20051113T210000Z
END:VEVENT
END:VCALENDAR
