BEGIN:VCALENDAR
VERSION:2.0
X-WR-CALNAME:www.indybay.org
PRODID:-//indybay/ical// v1.0//EN
BEGIN:VEVENT
UID:Indybay-80273
SEQUENCE:80273
CREATED:20051107T220500Z
DESCRIPTION:It's been one year since we formed the Riot-Folk Collective and we are 
 celebrating it in the bay-area!   We are a collective of 8 radical 
 activists and folk musicians (Brenna Sahatjian, Ethan Miller, Kate 
 Boverman, Ryan Harvey, Anna Roland, Evan Greer, Mark Gunnery, and Tom 
 Frampton) who write, perform, and distribute radical folk music at 
 no-to-low costs.   We are anti-profit and exist to further the struggle 
 against capitalism and oppression. All of our shows are donation-optional 
 benefits or they are free, no one is ever turned away for not having money 
 or not wanting to pay.  We have a bunch of shows from the 18th to the 
 25th.\n https://www.indybay.org/newsitems/2005/11/07/80273.php
SUMMARY:Riot-Folk! Benefit for post-FTAA summit legal fund in Argentina or for New Orlea
LOCATION:Nabolom Bakery   (2708 Russell St. @ College, in Berkeley)
URL:https://www.indybay.org/newsitems/2005/11/07/80273.php
DTSTART:20051119T030000Z
DTEND:20051119T070000Z
END:VEVENT
END:VCALENDAR
