BEGIN:VCALENDAR
VERSION:2.0
X-WR-CALNAME:www.indybay.org
PRODID:-//indybay/ical// v1.0//EN
BEGIN:VEVENT
UID:Indybay-7993
SEQUENCE:7993
CREATED:20040203T182400Z
DESCRIPTION:learn basic video digitizing, editing, encoding and uploading\n 
 https://www.indybay.org/newsitems/2004/02/03/7993.php
SUMMARY:imc video for web
LOCATION:2940 16th st #216
URL:https://www.indybay.org/newsitems/2004/02/03/7993.php
DTSTART:20020625T010000Z
DTEND:20020625T020000Z
END:VEVENT
END:VCALENDAR
