BEGIN:VCALENDAR
VERSION:2.0
X-WR-CALNAME:www.indybay.org
PRODID:-//indybay/ical// v1.0//EN
BEGIN:VEVENT
UID:Indybay-79523
SEQUENCE:79523
CREATED:20051027T063500Z
DESCRIPTION:Friday October 28, 5:00 p.m.  RALLY TO SUPPORT STRIKING HEALTH CARE WORKERS 
      After Sutter Health Corporation backed out of a deal brokered by 
 federal mediators in August, 800 members of SEIU-UHW have now been on 
 strike at the California Pacific Medical Center (CPMC) for more than 6 
 weeks. Join former presidential candidate Howard Dean, SEIU-UHW President 
 Sal Rosselli and the striking health care workers to demand an end to 
 Sutter's intransigence. CPMC Campus, Webster and Clay Streets, San 
 Francisco. Free. For information visit 
 http://www.sutterstrikersforpatientcare.com. \n 
 https://www.indybay.org/newsitems/2005/10/26/79523.php
SUMMARY:Rally to Support Striking Health Care Workers
LOCATION:CPMC Campus, Webster and Clay Streets, San Francisco
URL:https://www.indybay.org/newsitems/2005/10/26/79523.php
DTSTART:20051029T000000Z
DTEND:20051029T020000Z
END:VEVENT
END:VCALENDAR
