BEGIN:VCALENDAR
VERSION:2.0
X-WR-CALNAME:www.indybay.org
PRODID:-//indybay/ical// v1.0//EN
BEGIN:VEVENT
UID:Indybay-7943
SEQUENCE:7943
CREATED:20040203T182400Z
DESCRIPTION:\n https://www.indybay.org/newsitems/2004/02/03/7943.php
SUMMARY:sfimc meeting
LOCATION:sfimc, 2940 16th street, suite 216, san francisco
URL:https://www.indybay.org/newsitems/2004/02/03/7943.php
DTSTART:20020620T020000Z
DTEND:20020620T040000Z
END:VEVENT
END:VCALENDAR
