BEGIN:VCALENDAR
VERSION:2.0
X-WR-CALNAME:www.indybay.org
PRODID:-//indybay/ical// v1.0//EN
BEGIN:VEVENT
UID:Indybay-79333
SEQUENCE:79333
CREATED:20051026T015400Z
DESCRIPTION:A riveting discussion with Psychologist Allen Kanner and Market Researcher 
 Nick Russell about how corporations TARGET youth and set trends that can 
 lead to poor health, sexual pressure, anxiety, and materialistic 
 values—and what youth and concerned adults can do about it.   presented 
 as part of the CONSCIENTIOUS PROJECTOR FILM SERIES   Showing excerpts from 
 “The CORPORATION”   YOUTH   HAVE   CHOICES!     For Youth, Parents & 
 All Concerned Adults   $10 suggested donation.   sponsored by BFUU's Social 
 Justice Committee     Imagine growing up in a world with no advertising 
 aimed at teenagers and younger children. With marketing to children now 
 implicated in childhood obesity, violence, drug and alcohol abuse, 
 depression, and low self-esteem, among other problems, is a national ban on 
 marketing to children reasonable? Do corporations have a "right" to 
 advertise or is this a cynical perversion of the U. S. Constitution and 
 common sense?  What can parents and children do about the commercialization 
 of childhood? These and related issues will be discussed after the film 
 excerpts at the "Target Market" event.   \n 
 https://www.indybay.org/newsitems/2005/10/25/79333.php
SUMMARY:Target Market Discussion @ BFUU
LOCATION:At the Berkeley Fellowship of Unitarian Universalists' Hall   1924 Cedar 
 St. at Bonita, Berkeley   wheelchair access 
URL:https://www.indybay.org/newsitems/2005/10/25/79333.php
DTSTART:20051119T030000Z
DTEND:20051119T050000Z
END:VEVENT
END:VCALENDAR
