BEGIN:VCALENDAR
VERSION:2.0
X-WR-CALNAME:www.indybay.org
PRODID:-//indybay/ical// v1.0//EN
BEGIN:VEVENT
UID:Indybay-78913
SEQUENCE:78913
CREATED:20051021T205400Z
DESCRIPTION:tell some people.. 8pm - midnite or so, sublounge 20th/3rd SF  $5- door 
 goes to red cross for Katrina victims  few artists will be showing art on 
 the lounge's black walls\n 
 https://www.indybay.org/newsitems/2005/10/21/78913.php
SUMMARY:fund raiser for Katrina Victims
LOCATION:628 20th/3rd San Francisco
URL:https://www.indybay.org/newsitems/2005/10/21/78913.php
DTSTART:20051022T030000Z
DTEND:20051022T070000Z
END:VEVENT
END:VCALENDAR
